BEGIN:VCALENDAR
VERSION:2.0
PRODID:-//Västanviks Samfällighetsförening - ECPv6.15.18//NONSGML v1.0//EN
CALSCALE:GREGORIAN
METHOD:PUBLISH
X-WR-CALNAME:Västanviks Samfällighetsförening
X-ORIGINAL-URL:https://8842c374357d3ff537001.admin.hardypress.com
X-WR-CALDESC:Händelser för Västanviks Samfällighetsförening
REFRESH-INTERVAL;VALUE=DURATION:PT1H
X-Robots-Tag:noindex
X-PUBLISHED-TTL:PT1H
BEGIN:VTIMEZONE
TZID:Europe/Stockholm
BEGIN:DAYLIGHT
TZOFFSETFROM:+0200
TZOFFSETTO:+0200
TZNAME:CEST
DTSTART:20250101T000000
END:DAYLIGHT
END:VTIMEZONE
BEGIN:VEVENT
DTSTART;TZID=Europe/Stockholm:20260425T090000
DTEND;TZID=Europe/Stockholm:20260425T130000
DTSTAMP:20260422T173022
CREATED:20260128T170644Z
LAST-MODIFIED:20260418T081252Z
UID:4591-1777107600-1777122000@8842c374357d3ff537001.admin.hardypress.com
SUMMARY:Årsstämma i Motala
DESCRIPTION:Handlingar och mer detaljerad har skickats ut till alla medlemmar.\nKolla din skräpkorg i första hand om du inte hittar mejlet före du kontaktar register@vestanvik.se \n 
URL:https://8842c374357d3ff537001.admin.hardypress.com/evenemang/arsstamma/
END:VEVENT
BEGIN:VEVENT
DTSTART;TZID=Europe/Stockholm:20260430T170000
DTEND;TZID=Europe/Stockholm:20260430T190000
DTSTAMP:20260422T173022
CREATED:20260315T193653Z
LAST-MODIFIED:20260315T193653Z
UID:4603-1777568400-1777575600@8842c374357d3ff537001.admin.hardypress.com
SUMMARY:Valborgsmässofirande
DESCRIPTION:Välkommen på traditionsenligt Valborgsmässofirande på södra udden den 30 april kl. 17.00. \nDet utlovas soppa\, sång och tal. Medtag egen kåsa/tallrik och sked.
URL:https://8842c374357d3ff537001.admin.hardypress.com/evenemang/valborgsmassofirande/
END:VEVENT
BEGIN:VEVENT
DTSTART;TZID=Europe/Stockholm:20260501T100000
DTEND;TZID=Europe/Stockholm:20260501T170000
DTSTAMP:20260422T173022
CREATED:20260418T080915Z
LAST-MODIFIED:20260418T080915Z
UID:4629-1777629600-1777654800@8842c374357d3ff537001.admin.hardypress.com
SUMMARY:Norra Vätterns Konstrunda
DESCRIPTION:Norra Vätterns Bild & Form Konstnärer (www.nvbof.se) bjuder in till konstrunda 1-3 maj kl. 10-17. \nTre deltagare finns inom Västanviks område: \n\nStordalsvägen 395\nDalskogsvägen 235\nVästanviksvägen 55
URL:https://8842c374357d3ff537001.admin.hardypress.com/evenemang/norra-vatterns-konstrunda/
END:VEVENT
BEGIN:VEVENT
DTSTART;TZID=Europe/Stockholm:20260502T100000
DTEND;TZID=Europe/Stockholm:20260502T170000
DTSTAMP:20260422T173022
CREATED:20260418T080959Z
LAST-MODIFIED:20260418T080959Z
UID:4631-1777716000-1777741200@8842c374357d3ff537001.admin.hardypress.com
SUMMARY:Norra Vätterns Konstrunda
DESCRIPTION:Norra Vätterns Bild & Form Konstnärer (www.nvbof.se) bjuder in till konstrunda 1-3 maj kl. 10-17. \nTre deltagare finns inom Västanviks område: \n\nStordalsvägen 395\nDalskogsvägen 235\nVästanviksvägen 55
URL:https://8842c374357d3ff537001.admin.hardypress.com/evenemang/norra-vatterns-konstrunda-2/
END:VEVENT
BEGIN:VEVENT
DTSTART;TZID=Europe/Stockholm:20260503T100000
DTEND;TZID=Europe/Stockholm:20260503T170000
DTSTAMP:20260422T173022
CREATED:20260418T081038Z
LAST-MODIFIED:20260418T081038Z
UID:4633-1777802400-1777827600@8842c374357d3ff537001.admin.hardypress.com
SUMMARY:Norra Vätterns Konstrunda
DESCRIPTION:Norra Vätterns Bild & Form Konstnärer (www.nvbof.se) bjuder in till konstrunda 1-3 maj kl. 10-17. \nTre deltagare finns inom Västanviks område: \n\nStordalsvägen 395\nDalskogsvägen 235\nVästanviksvägen 55
URL:https://8842c374357d3ff537001.admin.hardypress.com/evenemang/norra-vatterns-konstrunda-3/
END:VEVENT
BEGIN:VEVENT
DTSTART;TZID=Europe/Stockholm:20260514T093000
DTEND;TZID=Europe/Stockholm:20260514T113000
DTSTAMP:20260422T173022
CREATED:20260418T080440Z
LAST-MODIFIED:20260418T081416Z
UID:4627-1778751000-1778758200@8842c374357d3ff537001.admin.hardypress.com
SUMMARY:Frö- och plantbytarträff
DESCRIPTION:Välkommen på frö- och plantbytarträff vid Backstugan den 14 maj mellan kl. 9.30-11.30! \nTa med ditt överskott av plantor eller frö från din trädgård och byt till dej något nytt eller kom och få ett par plantor från någon som har för mycket av någon sort. \nVarmt välkomna \nhälsar Kerstin och Carina
URL:https://8842c374357d3ff537001.admin.hardypress.com/evenemang/fro-och-platbytartraff/
END:VEVENT
END:VCALENDAR